BEGIN:VCALENDAR
VERSION:2.0
PRODID:-//ChamberMaster//Event Calendar 2.0//EN
METHOD:PUBLISH
X-PUBLISHED-TTL:P3D
REFRESH-INTERVAL:P3D
CALSCALE:GREGORIAN
BEGIN:VEVENT
DTSTART:20210916T170000Z
DTEND:20210916T200000Z
X-MICROSOFT-CDO-ALLDAYEVENT:FALSE
SUMMARY:Mind in Somerset Firewalk!!
DESCRIPTION:Is a Firewalk on your bucket list?\n\nLooking for a HOT challenge in 2021? Join us for an unforgettable evening as you walk barefoot over embers burning at over 1\,000 degrees to give support for mental health in Somerset\, in the ultimate fiery fundraiser. There is plenty for friends or family to enjoy  including entertainment food and a licensed bar.\n\n\n\nRegistration is just  20 with a minimum of  100 fundraising\n\n\n\nThis event has kindly been sponsored by Gooch and Housego
X-ALT-DESC;FMTTYPE=text/html:<h2><strong>Is a Firewalk on your bucket list?</strong></h2>\n\n<p>Looking for a HOT challenge in 2021? Join us for an unforgettable evening as you walk barefoot over embers burning at over 1\,000 degrees to give support for mental health in Somerset\, in the ultimate fiery fundraiser. There is plenty for friends or family to enjoy&nbsp\; including entertainment food and a licensed bar.<br />\n<br />\nRegistration is just &pound\;20 with a minimum of &pound\;100 fundraising<br />\n<br />\nThis event has kindly been sponsored by Gooch and Housego</p>\n
LOCATION:Yeovil Rugby Club
UID:e.3077.23224
SEQUENCE:3
DTSTAMP:20260421T100841Z
URL:https://business.somerset-chamber.co.uk/events/details/mind-in-somerset-firewalk-23224
END:VEVENT

END:VCALENDAR
